BEGIN:VCALENDAR
VERSION:2.0
PRODID:-//Tukios.com/
BEGIN:VEVENT
UID:0059c4a5-1309-49cf-a8cc-211348eb53fa@www.parrfuneralhome.com
DTSTAMP:20260424T225714Z
DTSTART:20260427T220000Z
DTEND:20260428T000000Z
SUMMARY:Visitation
DESCRIPTION:
URL:https://www.parrfuneralhome.com/obituaries/joe-sandefur
LOCATION: 3515 Robs Dr  Suffolk VA 23434
GEO:36.7775676;-76.6197799
END:VEVENT
END:VCALENDAR