BEGIN:VCALENDAR
VERSION:2.0
PRODID:-//Tukios.com/
BEGIN:VEVENT
UID:e8bcfa05-daa2-4064-9950-74ea7f0772b1@www.parrfuneralhome.com
DTSTAMP:20260424T203714Z
DTSTART:20260501T200000Z
DTEND:20260501T210000Z
SUMMARY:Funeral Service
DESCRIPTION:
URL:https://www.parrfuneralhome.com/obituaries/ezekiel-thomas
LOCATION:Parr Funeral Home & Crematory 3515 Robs Dr  Suffolk VA 23434
GEO:36.7775676;-76.6197799
END:VEVENT
END:VCALENDAR