BEGIN:VCALENDAR
VERSION:2.0
PRODID:-//Tukios.com/
BEGIN:VEVENT
UID:47effff0-2eef-422f-9e43-e79f8ba37c30@www.parrfuneralhome.com
DTSTAMP:20260424T203100Z
DTSTART:20260501T190000Z
DTEND:20260501T200000Z
SUMMARY:Visitation
DESCRIPTION:
URL:https://www.parrfuneralhome.com/obituaries/ezekiel-thomas
LOCATION:Parr Funeral Home & Crematory 3515 Robs Dr  Suffolk VA 23434
GEO:36.7775676;-76.6197799
END:VEVENT
END:VCALENDAR